BEGIN:VCALENDAR
VERSION:2.0
PRODID:-//OmniMagnetCalendar//EN
BEGIN:VEVENT
DTSTAMP:20190625T195740Z
STATUS:CONFIRMED
UID:hcfairfieldcounty.clubs.harvard.edu493
DTSTART:20251214T190000Z
DTEND:20251214T210000Z
LOCATION:
SUMMARY:Reception with Harvard Alumni Association Executive Director Sarah Karmon
DESCRIPTION:Hear the latest from campus - a joint event with the Southern Connecticut and Westchester County clubs
BEGIN:VALARM
TRIGGER:-PT15M
ACTION:DISPLAY
END:VALARM
TRANSP:OPAQUE
END:VEVENT
END:VCALENDAR
