BEGIN:VCALENDAR
VERSION:2.0
PRODID:-//OmniMagnetCalendar//EN
BEGIN:VEVENT
DTSTAMP:20190625T195740Z
STATUS:CONFIRMED
UID:hcfairfieldcounty.clubs.harvard.edu492
DTSTART:20251213T160000Z
DTEND:20251213T180000Z
LOCATION:Lockwood-Mathews Mansion Museum, 295 West Avenue, Norwalk, CT, 06850,
SUMMARY:Lockwood-Mathews Mansion Tour on December 13
DESCRIPTION:Join us for a VIP tour of the Lockwood-Mathews Mansion on Saturday, December 13
BEGIN:VALARM
TRIGGER:-PT15M
ACTION:DISPLAY
END:VALARM
TRANSP:OPAQUE
END:VEVENT
END:VCALENDAR
