BEGIN:VCALENDAR
VERSION:2.0
PRODID:-//OmniMagnetCalendar//EN
BEGIN:VEVENT
DTSTAMP:20190625T195740Z
STATUS:CONFIRMED
UID:hcfairfieldcounty.clubs.harvard.edu486
DTSTART:20251210T233000Z
DTEND:20251211T020000Z
LOCATION:Country Club of Darien, 300 Mansfield Avenue, Darien, CT, 06820,
SUMMARY:2025 Holiday Party on December 10
DESCRIPTION:Join us at the Country Club of Darien for holiday cheer!
BEGIN:VALARM
TRIGGER:-PT15M
ACTION:DISPLAY
END:VALARM
TRANSP:OPAQUE
END:VEVENT
END:VCALENDAR
